BEGIN:VCALENDAR
VERSION:2.0
PRODID:-//Abbaye de Valmagne - ECPv5.16.0//NONSGML v1.0//EN
CALSCALE:GREGORIAN
METHOD:PUBLISH
X-WR-CALNAME:Abbaye de Valmagne
X-ORIGINAL-URL:https://www.valmagne.com
X-WR-CALDESC:évènements pour Abbaye de Valmagne
BEGIN:VTIMEZONE
TZID:Europe/Paris
BEGIN:DAYLIGHT
TZOFFSETFROM:+0100
TZOFFSETTO:+0200
TZNAME:CEST
DTSTART:20240331T010000
END:DAYLIGHT
BEGIN:STANDARD
TZOFFSETFROM:+0200
TZOFFSETTO:+0100
TZNAME:CET
DTSTART:20241027T010000
END:STANDARD
END:VTIMEZONE
BEGIN:VEVENT
DTSTART;TZID=Europe/Paris:20240417T143000
DTEND;TZID=Europe/Paris:20240417T160000
DTSTAMP:20260419T153814
CREATED:20240321T085848Z
LAST-MODIFIED:20240321T085848Z
UID:34989-1713364200-1713369600@www.valmagne.com
SUMMARY:Atelier enfants : Lanternes à fleurs
DESCRIPTION:Mercredi 17 Avril à 14h30\, offrez un moment fleuri à vos enfants en leur permettant de décorer eux-mêmes des pots en verre pour y placer une bougie : un atelier qui mettra en lumière leur imagination. \nTarif : 6€/enfant uniquement \nRéservation sur www.valmagne.com \nInformations à pedagogie@valmagne.com ou au 04-67-78-47-32
URL:https://www.valmagne.com/evenement/atelier-enfants-lanternes-a-fleurs/
LOCATION:Abbaye de Valmagne\, Abbaye Sainte-Marie de Valmagne\, VILLEVEYRAC\, 34560\, France
CATEGORIES:Animations Enfants
ATTACH;FMTTYPE=image/jpeg:https://www.valmagne.com/wp-content/uploads/2024/03/ae-lanternes-17-avril.jpg
ORGANIZER;CN="Abbaye%20de%20Valmagne":MAILTO:info@valmagne.com
GEO:43.487293;3.562323
X-APPLE-STRUCTURED-LOCATION;VALUE=URI;X-ADDRESS=Abbaye de Valmagne Abbaye Sainte-Marie de Valmagne VILLEVEYRAC 34560 France;X-APPLE-RADIUS=500;X-TITLE=Abbaye Sainte-Marie de Valmagne:geo:3.562323,43.487293
END:VEVENT
END:VCALENDAR