BEGIN:VCALENDAR
VERSION:2.0
PRODID:-//Abbaye de Valmagne - ECPv5.16.0//NONSGML v1.0//EN
CALSCALE:GREGORIAN
METHOD:PUBLISH
X-WR-CALNAME:Abbaye de Valmagne
X-ORIGINAL-URL:https://www.valmagne.com
X-WR-CALDESC:évènements pour Abbaye de Valmagne
BEGIN:VTIMEZONE
TZID:Europe/Paris
BEGIN:DAYLIGHT
TZOFFSETFROM:+0100
TZOFFSETTO:+0200
TZNAME:CEST
DTSTART:20180325T010000
END:DAYLIGHT
BEGIN:STANDARD
TZOFFSETFROM:+0200
TZOFFSETTO:+0100
TZNAME:CET
DTSTART:20181028T010000
END:STANDARD
END:VTIMEZONE
BEGIN:VEVENT
DTSTART;TZID=Europe/Paris:20180718T210000
DTEND;TZID=Europe/Paris:20180718T230000
DTSTAMP:20260424T200227
CREATED:20180628T084406Z
LAST-MODIFIED:20180628T084703Z
UID:2568-1531947600-1531954800@www.valmagne.com
SUMMARY:Carte blanche à Piers Faccini
DESCRIPTION:Carte blanche à « Piers Faccini » dans le cadre du Festival de Thau \nTarifs : de 13€ à 23€. Infos – résas : www.festivaldethau.com ou 04 67 18 70 83\nOrganisé par le festival de Thau et accueilli par Les amis de Valmagne
URL:https://www.valmagne.com/evenement/carte-blanche-a-piers-faccini/
LOCATION:Église de l’abbaye\, Abbaye Sainte-Marie de Valmagne\, Villeveyrac\, France\, 34560\, France
CATEGORIES:Concerts et Nocturnes
ATTACH;FMTTYPE=image/jpeg:https://www.valmagne.com/wp-content/uploads/2018/06/piers-faccini.jpg
GEO:43.487293;3.562323
X-APPLE-STRUCTURED-LOCATION;VALUE=URI;X-ADDRESS=Église de l’abbaye Abbaye Sainte-Marie de Valmagne Villeveyrac France 34560 France;X-APPLE-RADIUS=500;X-TITLE=Abbaye Sainte-Marie de Valmagne:geo:3.562323,43.487293
END:VEVENT
END:VCALENDAR