BEGIN:VCALENDAR
VERSION:2.0
PRODID:-//Abbaye de Valmagne - ECPv5.16.0//NONSGML v1.0//EN
CALSCALE:GREGORIAN
METHOD:PUBLISH
X-WR-CALNAME:Abbaye de Valmagne
X-ORIGINAL-URL:https://www.valmagne.com
X-WR-CALDESC:évènements pour Abbaye de Valmagne
BEGIN:VTIMEZONE
TZID:Europe/Paris
BEGIN:DAYLIGHT
TZOFFSETFROM:+0100
TZOFFSETTO:+0200
TZNAME:CEST
DTSTART:20200329T010000
END:DAYLIGHT
BEGIN:STANDARD
TZOFFSETFROM:+0200
TZOFFSETTO:+0100
TZNAME:CET
DTSTART:20201025T010000
END:STANDARD
END:VTIMEZONE
BEGIN:VEVENT
DTSTART;TZID=Europe/Paris:20201031T180000
DTEND;TZID=Europe/Paris:20201031T193000
DTSTAMP:20260420T100843
CREATED:20200319T150236Z
LAST-MODIFIED:20201022T105003Z
UID:12269-1604167200-1604172600@www.valmagne.com
SUMMARY:REPORT : Concert de gospel avec la chorale "Gospelize it"
DESCRIPTION:CE CONCERT INITIALEMENT PROGRAMME LE 23 OCTOBRE 2020 EST REPORTE AU 31 OCTOBRE 2020 ! \nEn co-production avec le Festival de Thau\n•18h00 – Concert Gospelize it avec Emma Lamadji\nChorale crée il y 20 ans par Emmanuel Djob\, chanteur et compositeur de gospel reconnu à l’échelle internationale\, Gospelize it\, reprise par Emma Lamadji\, chanteuse\, musicienne\, cheffe de choeur. Avec une trentaine de chanteurs et un groupe de musiciens talentueux\, ce choeur Montpellierain délivre un gospel très personnel\, intense et communicatif! \nGospelize It\, c’est la volonté de faire passer\, au travers d’un répertoire varié\, un message de foi\, de partage et d’espoir\, en musique\, humainement et simplement. \nInfos-billetterie : www.festivaldethau.com / 04 67 18 70 83 \nTarifs : 12€ / 14€ / 14€ / 16€* / Gratuit – 7 ans \n* hors frais de location éventuels
URL:https://www.valmagne.com/evenement/concert-de-gospel-avec-la-chorale-gospelize-it/
LOCATION:Abbaye de Valmagne\, Abbaye Sainte-Marie de Valmagne\, VILLEVEYRAC\, 34560\, France
CATEGORIES:Animations,Concerts et Nocturnes
ATTACH;FMTTYPE=image/jpeg:https://www.valmagne.com/wp-content/uploads/2020/03/nuiteegospel16juillet2016.jpg
ORGANIZER;CN="Abbaye%20de%20Valmagne":MAILTO:info@valmagne.com
GEO:43.487293;3.562323
X-APPLE-STRUCTURED-LOCATION;VALUE=URI;X-ADDRESS=Abbaye de Valmagne Abbaye Sainte-Marie de Valmagne VILLEVEYRAC 34560 France;X-APPLE-RADIUS=500;X-TITLE=Abbaye Sainte-Marie de Valmagne:geo:3.562323,43.487293
END:VEVENT
END:VCALENDAR