BEGIN:VCALENDAR
VERSION:2.0
PRODID:-//Abbaye de Valmagne - ECPv5.16.0//NONSGML v1.0//EN
CALSCALE:GREGORIAN
METHOD:PUBLISH
X-WR-CALNAME:Abbaye de Valmagne
X-ORIGINAL-URL:https://www.valmagne.com
X-WR-CALDESC:évènements pour Abbaye de Valmagne
BEGIN:VTIMEZONE
TZID:Europe/Paris
BEGIN:DAYLIGHT
TZOFFSETFROM:+0100
TZOFFSETTO:+0200
TZNAME:CEST
DTSTART:20260329T010000
END:DAYLIGHT
BEGIN:STANDARD
TZOFFSETFROM:+0200
TZOFFSETTO:+0100
TZNAME:CET
DTSTART:20261025T010000
END:STANDARD
END:VTIMEZONE
BEGIN:VEVENT
DTSTART;TZID=Europe/Paris:20260722T190000
DTEND;TZID=Europe/Paris:20260722T203000
DTSTAMP:20260421T134851
CREATED:20260419T095335Z
LAST-MODIFIED:20260419T095335Z
UID:50653-1784746800-1784752200@www.valmagne.com
SUMMARY:Concert Festival de Thau - LA LITANIE DES CIMES & MAH DAMBA
DESCRIPTION:Quand le trio d’instrumentistes La Litanie des Cimes croise la route de la diva malienne Mah Damba : l’alchimie est totale. Entre musique de chambre\, impro jazz et chant mandingue\, cette création est un petit bijou acoustique. \nDans l’écrin minéral de l’abbaye de Valmagne\, ce concert promet une expérience collective\, presque physique. \nUn moment suspendu où la musique circule librement entre les artistes\, le lieu et le public. \nBilletterie sur le site du Festival \n\n\n\n\n\n\n 
URL:https://www.valmagne.com/evenement/concert-festival-de-thau-la-litanie-des-cimes-mah-damba/
LOCATION:Abbaye de Valmagne\, Abbaye Sainte-Marie de Valmagne\, VILLEVEYRAC\, 34560\, France
CATEGORIES:Concerts et Nocturnes
ATTACH;FMTTYPE=image/jpeg:https://www.valmagne.com/wp-content/uploads/2026/04/650666843-1499900695026798-4522942557116249724-n.jpg
ORGANIZER;CN="Abbaye%20de%20Valmagne":MAILTO:info@valmagne.com
GEO:43.487293;3.562323
X-APPLE-STRUCTURED-LOCATION;VALUE=URI;X-ADDRESS=Abbaye de Valmagne Abbaye Sainte-Marie de Valmagne VILLEVEYRAC 34560 France;X-APPLE-RADIUS=500;X-TITLE=Abbaye Sainte-Marie de Valmagne:geo:3.562323,43.487293
END:VEVENT
END:VCALENDAR