BEGIN:VCALENDAR
VERSION:2.0
PRODID:-//Abbaye de Valmagne - ECPv5.16.0//NONSGML v1.0//EN
CALSCALE:GREGORIAN
METHOD:PUBLISH
X-WR-CALNAME:Abbaye de Valmagne
X-ORIGINAL-URL:https://www.valmagne.com
X-WR-CALDESC:évènements pour Abbaye de Valmagne
BEGIN:VTIMEZONE
TZID:Europe/Paris
BEGIN:DAYLIGHT
TZOFFSETFROM:+0100
TZOFFSETTO:+0200
TZNAME:CEST
DTSTART:20260329T010000
END:DAYLIGHT
BEGIN:STANDARD
TZOFFSETFROM:+0200
TZOFFSETTO:+0100
TZNAME:CET
DTSTART:20261025T010000
END:STANDARD
END:VTIMEZONE
BEGIN:VEVENT
DTSTART;TZID=Europe/Paris:20260605T210000
DTEND;TZID=Europe/Paris:20260605T223000
DTSTAMP:20260421T122620
CREATED:20260419T094938Z
LAST-MODIFIED:20260419T094938Z
UID:50650-1780693200-1780698600@www.valmagne.com
SUMMARY:Concert Jazz à Sète - JEAN-PIERRE COMO &  JAVIER GIROTTO\, Parfum d’Azur
DESCRIPTION:Parfum d’Azur est le 16ème album du pianiste et compositeur Jean-Pierre Como\, dans lequel il invite le saxophoniste argentin Javier Girotto.\nParfum d’Azur\, c’est la rencontre du souffle et de la résonance\, où saxophone et piano se répondent dans une même respiration.\nLe Duo tisse un jazz impressionniste et vibrant où la puissance devient clarté et la musique pure lumière.\nUn mélange rare de douceur\, d’expressivité et d’interactions jubilatoires caractérise les compositions et les improvisations de ce duo.\nC’est une musique à la fois très écrite et profondément libre\, qui laisse une grande place à l’imagination. Elle unit l’élégance et la profondeur du romantisme classique à la liberté et au vocabulaire du jazz. L’album offre ainsi un équilibre unique entre forme et spontanéité.\nEnregistré dans l’ancienne salle du couvent des Dominicains à Saint-Emilion\, cet album capte l’essence d’une rencontre : celle de deux instruments\, de deux voix et d’un lieu\, qui devient le troisième partenaire du duo.\nSur scène\, le face à face captive et l’énergie se développe de manière puissante et très communicative ! \nBilletterie sur le site du Festival
URL:https://www.valmagne.com/evenement/concert-jazz-a-sete-jean-pierre-como-javier-girotto-parfum-dazur/
LOCATION:Abbaye de Valmagne\, Abbaye Sainte-Marie de Valmagne\, VILLEVEYRAC\, 34560\, France
CATEGORIES:Concerts et Nocturnes
ATTACH;FMTTYPE=image/jpeg:https://www.valmagne.com/wp-content/uploads/2026/04/624412692-18334010824246585-2442646990290147260-n.jpg
ORGANIZER;CN="Abbaye%20de%20Valmagne":MAILTO:info@valmagne.com
GEO:43.487293;3.562323
X-APPLE-STRUCTURED-LOCATION;VALUE=URI;X-ADDRESS=Abbaye de Valmagne Abbaye Sainte-Marie de Valmagne VILLEVEYRAC 34560 France;X-APPLE-RADIUS=500;X-TITLE=Abbaye Sainte-Marie de Valmagne:geo:3.562323,43.487293
END:VEVENT
END:VCALENDAR