BEGIN:VCALENDAR
VERSION:2.0
PRODID:-//Abbaye de Valmagne - ECPv5.16.0//NONSGML v1.0//EN
CALSCALE:GREGORIAN
METHOD:PUBLISH
X-WR-CALNAME:Abbaye de Valmagne
X-ORIGINAL-URL:https://www.valmagne.com
X-WR-CALDESC:évènements pour Abbaye de Valmagne
BEGIN:VTIMEZONE
TZID:Europe/Paris
BEGIN:DAYLIGHT
TZOFFSETFROM:+0100
TZOFFSETTO:+0200
TZNAME:CEST
DTSTART:20180325T010000
END:DAYLIGHT
BEGIN:STANDARD
TZOFFSETFROM:+0200
TZOFFSETTO:+0100
TZNAME:CET
DTSTART:20181028T010000
END:STANDARD
END:VTIMEZONE
BEGIN:VEVENT
DTSTART;TZID=Europe/Paris:20180816T210000
DTEND;TZID=Europe/Paris:20180816T233000
DTSTAMP:20260424T200349
CREATED:20180628T090136Z
LAST-MODIFIED:20180628T090136Z
UID:2576-1534453200-1534462200@www.valmagne.com
SUMMARY:Florian Ling
DESCRIPTION:« Florian Ling » Lauréat du Concours International de Piano de Sète\, prix Diane d’Allaines \nInfos et réservations : 06 60 99 97 70\nTarif : 15€ TR 12€ \nOrganisé par l’association Claude Bonneton et accueilli par Les amis de Valmagne
URL:https://www.valmagne.com/evenement/florian-ling/
LOCATION:Église de l’abbaye\, Abbaye Sainte-Marie de Valmagne\, Villeveyrac\, France\, 34560\, France
CATEGORIES:Concerts et Nocturnes
GEO:43.487293;3.562323
X-APPLE-STRUCTURED-LOCATION;VALUE=URI;X-ADDRESS=Église de l’abbaye Abbaye Sainte-Marie de Valmagne Villeveyrac France 34560 France;X-APPLE-RADIUS=500;X-TITLE=Abbaye Sainte-Marie de Valmagne:geo:3.562323,43.487293
END:VEVENT
END:VCALENDAR