BEGIN:VCALENDAR
VERSION:2.0
PRODID:-//Abbaye de Valmagne - ECPv5.16.0//NONSGML v1.0//EN
CALSCALE:GREGORIAN
METHOD:PUBLISH
X-WR-CALNAME:Abbaye de Valmagne
X-ORIGINAL-URL:https://www.valmagne.com
X-WR-CALDESC:évènements pour Abbaye de Valmagne
BEGIN:VTIMEZONE
TZID:Europe/Paris
BEGIN:DAYLIGHT
TZOFFSETFROM:+0100
TZOFFSETTO:+0200
TZNAME:CEST
DTSTART:20250330T010000
END:DAYLIGHT
BEGIN:STANDARD
TZOFFSETFROM:+0200
TZOFFSETTO:+0100
TZNAME:CET
DTSTART:20251026T010000
END:STANDARD
END:VTIMEZONE
BEGIN:VEVENT
DTSTART;TZID=Europe/Paris:20251129T100000
DTEND;TZID=Europe/Paris:20251129T180000
DTSTAMP:20260424T225940
CREATED:20250919T103033Z
LAST-MODIFIED:20251015T100004Z
UID:46935-1764410400-1764439200@www.valmagne.com
SUMMARY:GRAND MARCHÉ DE NOËL 2025
DESCRIPTION:Préparez-vous à retrouver l’enchantement de la plus belle période de l’année et laissez-vous emporter par la féérie de Noël à l’Abbaye de Valmagne\, à Villeveyrac. Entre décorations festives\, sapins majestueux et chants traditionnels\, l’ambiance sera chaleureuse et pleine de magie. \nNos nombreux exposants vous attendent pour vous faire vivre un moment convivial et inoubliable. Autour d’un verre de vin chaud et de marrons grillés au feu de bois\, partez à la recherche du cadeau parfait parmi une sélection unique d’artisanat et de produits locaux. \nRejoignez-nous tout le week-end\, de 10h à 18h\, et célébrez l’esprit de Noël dans ce cadre exceptionnel ! \nEntrée 5\,50€ par personne / Gratuit pour les moins de 12 ans \nDernière entrée 1h avant la fermeture \nChiens non-autorisés sur ces deux jours \nPrésence du Père Noël uniquement l’après-midi \nPlus d’informations au 04-67-78-47-32
URL:https://www.valmagne.com/evenement/grand-marche-de-noel-2025/2025-11-29/
LOCATION:Abbaye de Valmagne\, Abbaye Sainte-Marie de Valmagne\, VILLEVEYRAC\, 34560\, France
CATEGORIES:Animations
ATTACH;FMTTYPE=image/jpeg:https://www.valmagne.com/wp-content/uploads/2025/09/affiche-a1-cracker-2025-scaled.jpg
ORGANIZER;CN="Abbaye%20de%20Valmagne":MAILTO:info@valmagne.com
GEO:43.487293;3.562323
X-APPLE-STRUCTURED-LOCATION;VALUE=URI;X-ADDRESS=Abbaye de Valmagne Abbaye Sainte-Marie de Valmagne VILLEVEYRAC 34560 France;X-APPLE-RADIUS=500;X-TITLE=Abbaye Sainte-Marie de Valmagne:geo:3.562323,43.487293
END:VEVENT
END:VCALENDAR