BEGIN:VCALENDAR
VERSION:2.0
PRODID:-//Abbaye de Valmagne - ECPv5.16.0//NONSGML v1.0//EN
CALSCALE:GREGORIAN
METHOD:PUBLISH
X-WR-CALNAME:Abbaye de Valmagne
X-ORIGINAL-URL:https://www.valmagne.com
X-WR-CALDESC:évènements pour Abbaye de Valmagne
BEGIN:VTIMEZONE
TZID:Europe/Paris
BEGIN:DAYLIGHT
TZOFFSETFROM:+0100
TZOFFSETTO:+0200
TZNAME:CEST
DTSTART:20180325T010000
END:DAYLIGHT
BEGIN:STANDARD
TZOFFSETFROM:+0200
TZOFFSETTO:+0100
TZNAME:CET
DTSTART:20181028T010000
END:STANDARD
END:VTIMEZONE
BEGIN:VEVENT
DTSTART;VALUE=DATE:20181123
DTEND;VALUE=DATE:20181125
DTSTAMP:20260424T124536
CREATED:20180628T081349Z
LAST-MODIFIED:20181022T090744Z
UID:2561-1543014000-1543100399@www.valmagne.com
SUMMARY:Grand marché de Noël
DESCRIPTION:La 12 éme édition du Cracker Fair\, marché de Noël à l’anglaise\, aura lieu à l’Abbaye! Le Père Noël sera parmi nous…!Passez la journée sur place et déjeunez dans la magnifique cour d’honneur. 220 exposants à l’intérieur et à l’extérieur vous présenterons leurs créations artisanales (bijoux\, sacs\, déco\, art…) l’endroit idéal pour commencer vos achats de Noël ! Restauration possible à l’auberge de l’abbaye.\nPlus d’information sur www.crackerfair.com
URL:https://www.valmagne.com/evenement/grand-marche-de-noel/2018-11-24/
LOCATION:Abbaye de Valmagne\, Villeveyrac\, 34560\, France
CATEGORIES:Animations,Animations Caveau
GEO:43.4871192;3.5620538
X-APPLE-STRUCTURED-LOCATION;VALUE=URI;X-ADDRESS=Abbaye de Valmagne Villeveyrac 34560 France;X-APPLE-RADIUS=500;X-TITLE=Abbaye de Valmagne:geo:3.5620538,43.4871192
END:VEVENT
END:VCALENDAR